BEGIN:VCALENDAR
VERSION:2.0
PRODID:-//Blok51 - ECPv6.14.0//NONSGML v1.0//EN
CALSCALE:GREGORIAN
METHOD:PUBLISH
X-ORIGINAL-URL:https://blog.blok51.com
X-WR-CALDESC:Events for Blok51
REFRESH-INTERVAL;VALUE=DURATION:PT1H
X-Robots-Tag:noindex
X-PUBLISHED-TTL:PT1H
BEGIN:VTIMEZONE
TZID:Europe/London
BEGIN:DAYLIGHT
TZOFFSETFROM:+0000
TZOFFSETTO:+0100
TZNAME:BST
DTSTART:20180325T010000
END:DAYLIGHT
BEGIN:STANDARD
TZOFFSETFROM:+0100
TZOFFSETTO:+0000
TZNAME:GMT
DTSTART:20181028T010000
END:STANDARD
END:VTIMEZONE
BEGIN:VEVENT
DTSTART;TZID=Europe/London:20180805T183000
DTEND;TZID=Europe/London:20180805T213000
DTSTAMP:20260422T081723
CREATED:20180612T202451Z
LAST-MODIFIED:20180612T202451Z
UID:365-1533493800-1533504600@blog.blok51.com
SUMMARY:Wheels4Kris 2018 ~ 5th Anniversary Show
DESCRIPTION:Celebrate 5 years of Wheels4Kris fundraising with Tesco Bentrim Road and their partnership charities The British Heart Foundation & Diabetes UK. \nWheels4Kris is one of our favourite events of the year. It’s the ultimate show to go to if you want to mix it up a little. There are exceptional cars on display from all walks of life and a chilled out and friendly atmosphere. It’s a family evening out and is a wonderful tribute to the memory of Kris who was a true petrolhead. \nWe look forward to seeing you there. Don’t be late as this one fills up very fast.
URL:https://blog.blok51.com/event/wheels4kris-2018-5th-anniversary-show/
LOCATION:Tesco Lisburn\, Bentrim Road\, Lisburn\, Northern Ireland\, BT28 2GB\, United Kingdom
CATEGORIES:Car Shows,Motorcycle Shows
ATTACH;FMTTYPE=image/jpeg:https://blog.blok51.com/wp-content/uploads/2018/01/wheels4Kris.jpg
END:VEVENT
BEGIN:VEVENT
DTSTART;TZID=Europe/London:20180805T090000
DTEND;TZID=Europe/London:20180805T160000
DTSTAMP:20260422T081723
CREATED:20180612T204730Z
LAST-MODIFIED:20180612T204730Z
UID:369-1533459600-1533484800@blog.blok51.com
SUMMARY:The Departure Lounge Show & Shine
DESCRIPTION:Drag Day Ireland asked Kleen Freaks to bring a Show n Shine aspect to the Drag Day event at St Angelo Airport on the 5th of August so they brought in Letstance UK to help them out. \nThis looks like it’s shaping up to be a great day out with loads to offer. The Drag Racing itself will be run by Straightliners events and all links to register to race are on the Drag Day event page and they already have a nitro fuelled funny car\, super fast beetles\, Jeremy McWilliams\, ex Moto GP racer\, and who knows what else might turn up. There’s no application needed for the Show n Shine\, and it’s open to all makes and models.  \nThat’s not all\, they are going to be working with the awesome WheelsforKris as their chosen charity and why not join their convoy to The Departure Lounge for the show then back up the road to go and support the awesome Wheels4Kris event in Lisburn.
URL:https://blog.blok51.com/event/the-departure-lounge-show-shine/
LOCATION:St Angelo Airport\, Killadeas Road\, Eniskillen\, Northern Ireland\, BT94 2FP\, United Kingdom
CATEGORIES:Car Shows,Motorcycle Shows,Motorsport Event
ATTACH;FMTTYPE=image/jpeg:https://blog.blok51.com/wp-content/uploads/2018/06/theDepartureLounge.jpg
END:VEVENT
BEGIN:VEVENT
DTSTART;VALUE=DATE:20180309
DTEND;VALUE=DATE:20180311
DTSTAMP:20260422T081723
CREATED:20180117T121631Z
LAST-MODIFIED:20180117T121734Z
UID:188-1520553600-1520726399@blog.blok51.com
SUMMARY:Ballymoney Motorcycle Show
DESCRIPTION:Ballymoney motorcycle show returns in 2018 after a year away from the show scene.  The show this year is scheduled for the 9th&10th of March at it’s new venue in the Ballybrakes community indoor bowling club. \nThe show will have a large bike display area and also a trade area\, canteen and bar facilities available.  They are now taking bookings.  There will also be a bike auction this year so if you have a bike for sale contact Davy on 07922060107. \nThe show also supports several charitable causes and this year they will be supporting the mcui medical team so please support the show for a great cause.
URL:https://blog.blok51.com/event/ballymoney-motorcycle-show/
LOCATION:Ballybrakes Community Indoor Bowling Club\, Ballybrakes Business Park\, Ballymoney\, Northern Ireland\, BT53 6LW\, United Kingdom
CATEGORIES:Motorcycle Shows
ATTACH;FMTTYPE=image/jpeg:https://blog.blok51.com/wp-content/uploads/2018/01/26734050_1996622783938507_4812749876022965966_n.jpg
END:VEVENT
END:VCALENDAR