BEGIN:VCALENDAR
VERSION:2.0
PRODID:-//Blok51 - ECPv6.14.0//NONSGML v1.0//EN
CALSCALE:GREGORIAN
METHOD:PUBLISH
X-WR-CALNAME:Blok51
X-ORIGINAL-URL:https://blog.blok51.com
X-WR-CALDESC:Events for Blok51
REFRESH-INTERVAL;VALUE=DURATION:PT1H
X-Robots-Tag:noindex
X-PUBLISHED-TTL:PT1H
BEGIN:VTIMEZONE
TZID:Europe/London
BEGIN:DAYLIGHT
TZOFFSETFROM:+0000
TZOFFSETTO:+0100
TZNAME:BST
DTSTART:20180325T010000
END:DAYLIGHT
BEGIN:STANDARD
TZOFFSETFROM:+0100
TZOFFSETTO:+0000
TZNAME:GMT
DTSTART:20181028T010000
END:STANDARD
END:VTIMEZONE
BEGIN:VEVENT
DTSTART;TZID=Europe/London:20180202T140000
DTEND;TZID=Europe/London:20180204T170000
DTSTAMP:20260422T094933
CREATED:20180117T002137Z
LAST-MODIFIED:20180117T002137Z
UID:184-1517580000-1517763600@blog.blok51.com
SUMMARY:N.I. Motorcycle Festival
DESCRIPTION:NI Motorcycle Festival promises to bring the very best from the motorcycle world under one roof.  The Eikon Exhibition Centre will be packed with bikes from every make and model and will give the owners a chance to show off their pride and joy and also allow the traders to display the very latest technology in bikes.  We have no doubt this is going to be a great event and we can’t wait.  Join us on the 2nd\, 3rd\, and 4th at the Eikon and see what all the fuss is about.
URL:https://blog.blok51.com/event/n-i-motorcycle-festival/
LOCATION:Eikon Exhibition Centre\, Balmoral Park\, Sprucefield\, Northern Ireland\, BT27 5RF\, United Kingdom
CATEGORIES:Car Shows
ATTACH;FMTTYPE=image/jpeg:https://blog.blok51.com/wp-content/uploads/2018/01/21270790_1668096496536725_1004441458172545256_n.jpg
END:VEVENT
END:VCALENDAR