BEGIN:VCALENDAR
VERSION:2.0
PRODID:-//Blok51 - ECPv6.14.0//NONSGML v1.0//EN
CALSCALE:GREGORIAN
METHOD:PUBLISH
X-WR-CALNAME:Blok51
X-ORIGINAL-URL:https://blog.blok51.com
X-WR-CALDESC:Events for Blok51
REFRESH-INTERVAL;VALUE=DURATION:PT1H
X-Robots-Tag:noindex
X-PUBLISHED-TTL:PT1H
BEGIN:VTIMEZONE
TZID:Europe/London
BEGIN:DAYLIGHT
TZOFFSETFROM:+0000
TZOFFSETTO:+0100
TZNAME:BST
DTSTART:20180325T010000
END:DAYLIGHT
BEGIN:STANDARD
TZOFFSETFROM:+0100
TZOFFSETTO:+0000
TZNAME:GMT
DTSTART:20181028T010000
END:STANDARD
BEGIN:DAYLIGHT
TZOFFSETFROM:+0000
TZOFFSETTO:+0100
TZNAME:BST
DTSTART:20190331T010000
END:DAYLIGHT
BEGIN:STANDARD
TZOFFSETFROM:+0100
TZOFFSETTO:+0000
TZNAME:GMT
DTSTART:20191027T010000
END:STANDARD
END:VTIMEZONE
BEGIN:VEVENT
DTSTART;VALUE=DATE:20190707
DTEND;VALUE=DATE:20190708
DTSTAMP:20260422T081518
CREATED:20190317T104536Z
LAST-MODIFIED:20190317T104536Z
UID:495-1562457600-1562543999@blog.blok51.com
SUMMARY:JCC - JDM Car Culture 2019
DESCRIPTION:JCC is Ireland’s only indoor JDM exhibition show casing the best JDM cars the country has to offer. \nComplimented by a live action arena and an extensive trade village JCC is arguably Northern Ireland’s largest true petrol head exhibition! \nJCC brings together everything from rare retro Japanese classics to insane horse power highly tuned monsters and everything in between all under one roof!  And adding to the action this year will be the IDC coming along so you get a car show and a motorsport event all in one place. \nThis clearly one of the best shows of the year.  Even if you’re not into Japanese cars\, this is one not to be missed.
URL:https://blog.blok51.com/event/jcc-jdm-car-culture-2019/
LOCATION:Eikon Exhibition Centre\, Balmoral Park\, Sprucefield\, Northern Ireland\, BT27 5RF\, United Kingdom
CATEGORIES:Car Shows,Motorsport Event
ATTACH;FMTTYPE=image/jpeg:https://blog.blok51.com/wp-content/uploads/2019/03/JCC-ROUND-3-EVENT-PAGE-SPLASH-lights-scaled.jpg
END:VEVENT
BEGIN:VEVENT
DTSTART;VALUE=DATE:20190406
DTEND;VALUE=DATE:20190408
DTSTAMP:20260422T081518
CREATED:20190317T102834Z
LAST-MODIFIED:20190317T102834Z
UID:488-1554508800-1554681599@blog.blok51.com
SUMMARY:Dubshed X 2019
DESCRIPTION:Dubshed returns once again for it’s 10th year.  From humble beginnings of a small show in the kings hall which brought the elite of Ireland’s VW cars it has grown to become one of the largest car shows in Ireland and attracts vehicles of all makes and models from all over the UK and Ireland. \n \nThe increased demand for the inclusion of non vag vehicles has meant that it has grown into a \n2 hall and 2 day affair and boasts a wide variety to suit all tastes from slammed VAGs to classics from the land of the rising sun to pristine examples of fords and vauxhalls. \nBlok 51 will be there as usual.  We’ll be back to our full stand this year and we’ll be bringing a huge variety of car care and detailing products from up to 30+ brands.  Make sure you call in to see a few special offers we’re lining up and also you’ll get a chance to see our new clothing and the new blok 51 products.
URL:https://blog.blok51.com/event/dubshed-x-2019/
LOCATION:Eikon Exhibition Centre\, Balmoral Park\, Sprucefield\, Northern Ireland\, BT27 5RF\, United Kingdom
CATEGORIES:Car Shows
ATTACH;FMTTYPE=image/png:https://blog.blok51.com/wp-content/uploads/2019/03/dubshed-poster.png
END:VEVENT
BEGIN:VEVENT
DTSTART;TZID=Europe/London:20180812T000000
DTEND;TZID=Europe/London:20180812T173000
DTSTAMP:20260422T081518
CREATED:20171208T193541Z
LAST-MODIFIED:20180117T000818Z
UID:5-1534032000-1534095000@blog.blok51.com
SUMMARY:Built Car Show
DESCRIPTION:Built returns to the Titanic Exhibition Centre in Belfast in 2018.  The show which celebrates all kinds of vehicles from world beating rally and track cars to daily drivers at the pinnacle of the show scene right down to classic BMX bikes of yesteryear.  Built will be held on the 12th of August and promises to bring back the relaxed atmosphere from last year with an even bigger and better show where the standard of vehicles on display will no doubt be right out of the top drawer. \nStay tuned on the built facebook page and on builtevent.com for more information on how to enter the show and how to buy tickets.  It’s surely one that can’t be missed in 2018.
URL:https://blog.blok51.com/event/built-car-show/
LOCATION:Titanic Exhibition Centre\, The Docks\, Belfast\, Antrim\, BT2 7HJ\, United Kingdom
CATEGORIES:Car Shows
ATTACH;FMTTYPE=image/jpeg:https://blog.blok51.com/wp-content/uploads/2017/12/2018Date.jpg
ORGANIZER;CN="Blok 51":MAILTO:sales@blok51.com
END:VEVENT
BEGIN:VEVENT
DTSTART;TZID=Europe/London:20180805T183000
DTEND;TZID=Europe/London:20180805T213000
DTSTAMP:20260422T081518
CREATED:20180612T202451Z
LAST-MODIFIED:20180612T202451Z
UID:365-1533493800-1533504600@blog.blok51.com
SUMMARY:Wheels4Kris 2018 ~ 5th Anniversary Show
DESCRIPTION:Celebrate 5 years of Wheels4Kris fundraising with Tesco Bentrim Road and their partnership charities The British Heart Foundation & Diabetes UK. \nWheels4Kris is one of our favourite events of the year. It’s the ultimate show to go to if you want to mix it up a little. There are exceptional cars on display from all walks of life and a chilled out and friendly atmosphere. It’s a family evening out and is a wonderful tribute to the memory of Kris who was a true petrolhead. \nWe look forward to seeing you there. Don’t be late as this one fills up very fast.
URL:https://blog.blok51.com/event/wheels4kris-2018-5th-anniversary-show/
LOCATION:Tesco Lisburn\, Bentrim Road\, Lisburn\, Northern Ireland\, BT28 2GB\, United Kingdom
CATEGORIES:Car Shows,Motorcycle Shows
ATTACH;FMTTYPE=image/jpeg:https://blog.blok51.com/wp-content/uploads/2018/01/wheels4Kris.jpg
END:VEVENT
BEGIN:VEVENT
DTSTART;TZID=Europe/London:20180805T090000
DTEND;TZID=Europe/London:20180805T160000
DTSTAMP:20260422T081518
CREATED:20180612T204730Z
LAST-MODIFIED:20180612T204730Z
UID:369-1533459600-1533484800@blog.blok51.com
SUMMARY:The Departure Lounge Show & Shine
DESCRIPTION:Drag Day Ireland asked Kleen Freaks to bring a Show n Shine aspect to the Drag Day event at St Angelo Airport on the 5th of August so they brought in Letstance UK to help them out. \nThis looks like it’s shaping up to be a great day out with loads to offer. The Drag Racing itself will be run by Straightliners events and all links to register to race are on the Drag Day event page and they already have a nitro fuelled funny car\, super fast beetles\, Jeremy McWilliams\, ex Moto GP racer\, and who knows what else might turn up. There’s no application needed for the Show n Shine\, and it’s open to all makes and models.  \nThat’s not all\, they are going to be working with the awesome WheelsforKris as their chosen charity and why not join their convoy to The Departure Lounge for the show then back up the road to go and support the awesome Wheels4Kris event in Lisburn.
URL:https://blog.blok51.com/event/the-departure-lounge-show-shine/
LOCATION:St Angelo Airport\, Killadeas Road\, Eniskillen\, Northern Ireland\, BT94 2FP\, United Kingdom
CATEGORIES:Car Shows,Motorcycle Shows,Motorsport Event
ATTACH;FMTTYPE=image/jpeg:https://blog.blok51.com/wp-content/uploads/2018/06/theDepartureLounge.jpg
END:VEVENT
BEGIN:VEVENT
DTSTART;TZID=Europe/London:20180603T123000
DTEND;TZID=Europe/London:20180603T160000
DTSTAMP:20260422T081518
CREATED:20180426T232147Z
LAST-MODIFIED:20180426T232147Z
UID:270-1528029000-1528041600@blog.blok51.com
SUMMARY:Causeway Coast Ford Fair
DESCRIPTION:The Causeway Coast Ford Fair (CCFF) is by far the largest ford car display event to be held in Ireland each year. The event attracts upwards on 10\,000 people each year\, with over 400 static Ford vehicles including vintage\, modern and sport on display. \nThe first show\, back in 2005\, was relatively small\, but such has been the success of Ford Fair\, that it is now a major calendar event for the Causeway Coast and Glens region. Alan Gourley\, Capri Club NI\, first approached Lindsay Cars Coleraine back in 2004 to garner interest in holding a small static display of Ford vehicles at the dealership. \nLittle did they know back then how this event would mushroom in to the huge show that it has become today. Hail rain or shine\, these ford nuts have their vehicles in pristine condition each year and make the show the tremendous occasion that it has become! \nIt’s a great day out for the whole family so don’t miss this one.
URL:https://blog.blok51.com/event/causeway-coast-ford-fair/
LOCATION:West Bay Portrush\, Portrush\, United Kingdom
CATEGORIES:Car Shows
ATTACH;FMTTYPE=image/jpeg:https://blog.blok51.com/wp-content/uploads/2018/01/fordfair2018.jpg
END:VEVENT
BEGIN:VEVENT
DTSTART;VALUE=DATE:20180526
DTEND;VALUE=DATE:20180527
DTSTAMP:20260422T081518
CREATED:20180117T230431Z
LAST-MODIFIED:20180426T225010Z
UID:192-1527292800-1527379199@blog.blok51.com
SUMMARY:RS Owners Club Ford Show 2018
DESCRIPTION:The RS Owners Club Regional Day Display will be held on Saturday 26th May 2018\, at Ballee Playing Fields\, Ballymena.  This marks 50 years of the iconic RS brand and this year they promise to have a very special central feature to celebrate this anniversary. \nAdditionally\, new for 2018\, both ‘Concours’ and ‘Unrestored Concours’ categories will be introduced (Ford Only) alongside ‘Show N’ Shine’ (All Vehicles). If you wish to enter your car in either of the concours categories then please contact the RS Owners Club directly. An extensive raffle\, with excellent prizes\, children’s entertainment\, hot food and much more will make this day unmissable. \n\nThe event will be open to all other makes/models\, as well as additional visiting car clubs\, with £10 entry per car. \n\nWe’re looking forward to this one and we look forward to seeing you there.
URL:https://blog.blok51.com/event/rs-owners-club-ford-show-2018/
LOCATION:Ballee Playing Fields\, Ballee Playing Fields\, Ballymena\, Northern Ireland\, BT43 7DR\, United Kingdom
CATEGORIES:Car Shows
ATTACH;FMTTYPE=image/jpeg:https://blog.blok51.com/wp-content/uploads/2018/01/rsowners.jpg
END:VEVENT
BEGIN:VEVENT
DTSTART;TZID=Europe/London:20180513T090000
DTEND;TZID=Europe/London:20180513T190000
DTSTAMP:20260422T081518
CREATED:20180426T231224Z
LAST-MODIFIED:20180426T231224Z
UID:265-1526202000-1526238000@blog.blok51.com
SUMMARY:MLVW - German Car Show
DESCRIPTION:MLVW are proud to present German Car Show on the 13th of May. The show will be at a new location in across from the race course in Kilbeggan Co. Westmeath\, just off the M6 motorway (eircode N91 X840). \nOn Saturday the 12th there will be camping onsite from 2pm. Sunday the 13th is the main event\, indoor & outdoor show n shine\, trade stands and auto jumble on Sunday the 13th. \nGates open for show cars at 10am and 12pm for general public.
URL:https://blog.blok51.com/event/mlvw-german-car-show/
LOCATION:Kilbeggan\, Westmeath\, Ireland
CATEGORIES:Car Shows
ATTACH;FMTTYPE=image/jpeg:https://blog.blok51.com/wp-content/uploads/2018/04/mlvw.jpg
END:VEVENT
BEGIN:VEVENT
DTSTART;TZID=Europe/London:20180505T100000
DTEND;TZID=Europe/London:20180505T170000
DTSTAMP:20260422T081518
CREATED:20180426T230630Z
LAST-MODIFIED:20180426T230630Z
UID:260-1525514400-1525539600@blog.blok51.com
SUMMARY:Loughgall Festival Of Motorsport
DESCRIPTION:Loughgall Festival Of Motorsport is always a highlight of the year for many people who have a passion for classic rally cars but also like to see some performance and show cars all in the same location.  At this years event at the loughgall country park the show and shine event will be hosted by JPCCNI so we expect so see some spectacular cars on show from the land of the rising sun.  But as well as Hondas\, Nissans\, and Mitsubishi’s we expect to see cars of all makes and models. \nLets hope the weather treats us well and it’s sure to be a great day out for the whole family.
URL:https://blog.blok51.com/event/loughgall-festival-of-motorsport/
LOCATION:Loughgall Country Park\, Main Street\, Loughgall\, BT61 8HZ\, United Kingdom
CATEGORIES:Car Shows
ATTACH;FMTTYPE=image/jpeg:https://blog.blok51.com/wp-content/uploads/2018/04/21752410_1958772011115442_1976591432046627952_n.jpg
END:VEVENT
BEGIN:VEVENT
DTSTART;VALUE=DATE:20180407
DTEND;VALUE=DATE:20180409
DTSTAMP:20260422T081518
CREATED:20180118T002019Z
LAST-MODIFIED:20180118T002019Z
UID:195-1523059200-1523231999@blog.blok51.com
SUMMARY:Dubshed 2018
DESCRIPTION:Dubshed returns again this year to the Eikon Exhibition centre on the 7th and 8th of April.  It’s one of the highlights of the year for fans of the German car scene. \nSince the very first Dubshed\, it’s just been getting bigger and bigger every year.  The variation of cars on display range from custom built german based cars to the very latest brand new models.  The make and model list covers pretty much everything you can thing of whether it be air cooled or water cooled. \nWith a wide range of cars\, a wide range of people\, and a wide range of trade stands\, Dubshed is not to be missed.
URL:https://blog.blok51.com/event/dubshed-2018/
LOCATION:Eikon Exhibition Centre\, Balmoral Park\, Sprucefield\, Northern Ireland\, BT27 5RF\, United Kingdom
CATEGORIES:Car Shows
ATTACH;FMTTYPE=image/jpeg:https://blog.blok51.com/wp-content/uploads/2018/01/26220632_1181528968647027_4250418849234502866_o.jpg
END:VEVENT
BEGIN:VEVENT
DTSTART;TZID=Europe/London:20180202T140000
DTEND;TZID=Europe/London:20180204T170000
DTSTAMP:20260422T081518
CREATED:20180117T002137Z
LAST-MODIFIED:20180117T002137Z
UID:184-1517580000-1517763600@blog.blok51.com
SUMMARY:N.I. Motorcycle Festival
DESCRIPTION:NI Motorcycle Festival promises to bring the very best from the motorcycle world under one roof.  The Eikon Exhibition Centre will be packed with bikes from every make and model and will give the owners a chance to show off their pride and joy and also allow the traders to display the very latest technology in bikes.  We have no doubt this is going to be a great event and we can’t wait.  Join us on the 2nd\, 3rd\, and 4th at the Eikon and see what all the fuss is about.
URL:https://blog.blok51.com/event/n-i-motorcycle-festival/
LOCATION:Eikon Exhibition Centre\, Balmoral Park\, Sprucefield\, Northern Ireland\, BT27 5RF\, United Kingdom
CATEGORIES:Car Shows
ATTACH;FMTTYPE=image/jpeg:https://blog.blok51.com/wp-content/uploads/2018/01/21270790_1668096496536725_1004441458172545256_n.jpg
END:VEVENT
END:VCALENDAR